BEGIN:VCALENDAR
VERSION:2.0
PRODID:-//wp-events-plugin.com//7.0.5//EN
BEGIN:VEVENT
UID:119@randfilmfest.de
DTSTART:20220916T150000Z
DTEND:20220916T160000Z
DTSTAMP:20230711T090515Z
URL:https://randfilmfest.de/events/urban-beyer-x-phon-performance/
SUMMARY:Urban Beyer – X-Phon Performance
DESCRIPTION:Urban Beyer galt bereits in jungen Jahren als musikalisches Sup
 ertalent\, studierte Trompete\, Gesang und Klavier in Kassel und erhielt m
 it 16 Jahren sein erstes professionelles Engagement als Musiker. Auf dem d
 iesjährigen Randfilmfest wird er sich mit seinem Sopransaxophon sich auf 
 das ganz spezielle Parkett des Soundtracks begeben und vor und während de
 r Vorführung eines Pornofilms live zu Bild und Ton improvisieren. Wir sin
 d sehr gespannt!
ATTACH;FMTTYPE=image/jpeg:https://randfilmfest.de/wp-content/uploads/2022/
 09/urban-p.jpg
CATEGORIES:Musikprogramm,Randfilmfest 2022
LOCATION:Großes BALi\, Rainer-Dierichs-Platz 1\, Kassel\, Hessen\, 34117\,
  Deutschland
X-APPLE-STRUCTURED-LOCATION;VALUE=URI;X-ADDRESS=Rainer-Dierichs-Platz 1\, K
 assel\, Hessen\, 34117\, Deutschland;X-APPLE-RADIUS=100;X-TITLE=Großes BA
 Li:geo:0,0
END:VEVENT
END:VCALENDAR