BEGIN:VCALENDAR
VERSION:2.0
PRODID:-//wp-events-plugin.com//7.0.5//EN
BEGIN:VEVENT
UID:172@randfilmfest.de
DTSTART:20240927T203000Z
DTEND:20240927T203000Z
DTSTAMP:20240903T121159Z
URL:https://randfilmfest.de/events/tenebre/
SUMMARY:Tenebre
DESCRIPTION:Der Horrorautor Peter Neal wird in Rom von einem Serienmörder 
 verfolgt\, der von seinen Büchern inspiriert zu sein scheint. Während di
 e Opferzahl steigt\, wird Neal in ein Netz aus Verdächtigungen und Gewalt
  verwickelt. \n\nMit irrsinnigen Kamerafahrten\, freudschen Traumwelten un
 d einem fetzigen Simonetti-Soundtrack kehrte Argento nach Ausflügen ins 
 Übernatürliche eindrucksvoll zu seinen Wurzeln zurück. Erst 2022 wurde 
 Tenebre nach 37 Jahren vom Index gestrichen.
ATTACH;FMTTYPE=image/jpeg:https://randfilmfest.de/wp-content/uploads/2024/
 07/rff-11-_0010_Tenebrae-02.jpg
CATEGORIES:Filme,Midnight Disturbance,Randfilmfest 2024
LOCATION:Großes BALi\, Rainer-Dierichs-Platz 1\, Kassel\, Hessen\, 34117\,
  Deutschland
X-APPLE-STRUCTURED-LOCATION;VALUE=URI;X-ADDRESS=Rainer-Dierichs-Platz 1\, K
 assel\, Hessen\, 34117\, Deutschland;X-APPLE-RADIUS=100;X-TITLE=Großes BA
 Li:geo:0,0
END:VEVENT
END:VCALENDAR