BEGIN:VCALENDAR
VERSION:2.0
PRODID:-//wp-events-plugin.com//7.0.5//EN
BEGIN:VEVENT
UID:196@randfilmfest.de
DTSTART:20240929T170000Z
DTEND:20240929T170000Z
DTSTAMP:20240903T121359Z
URL:https://randfilmfest.de/events/randfilmfest11-preisverleihung-und-absc
 hlussabend-2/
SUMMARY:Randfilmfest#11 - Preisverleihung und Abschlussabend
DESCRIPTION:Zum Abschluss des Randfilmfest#11 werden im Saal des Großen Ba
 Li Preise verteilt\, Gäste erwartet und MONO spielen live für alle Gewin
 ner und Verlierer. Direkt danach geht es weiter mit dem 66-Minuten Rave\, 
 auf dem Dancefloor sind BAUSTELLE und MONO\, unterstützt von Live-Visuals
  by SMILLA.
ATTACH;FMTTYPE=image/jpeg:https://randfilmfest.de/wp-content/uploads/2023/
 08/rff-10-abschluss.jpg
CATEGORIES:Rahmenprogramm,Randfilmfest 2024
LOCATION:Großes BALi\, Rainer-Dierichs-Platz 1\, Kassel\, Hessen\, 34117\,
  Deutschland
X-APPLE-STRUCTURED-LOCATION;VALUE=URI;X-ADDRESS=Rainer-Dierichs-Platz 1\, K
 assel\, Hessen\, 34117\, Deutschland;X-APPLE-RADIUS=100;X-TITLE=Großes BA
 Li:geo:0,0
END:VEVENT
END:VCALENDAR