BEGIN:VCALENDAR
VERSION:2.0
PRODID:-//wp-events-plugin.com//7.0.5//EN
BEGIN:VEVENT
UID:90@randfilmfest.de
DTSTART;TZID=Europe/Berlin:20220916T180000
DTEND;TZID=Europe/Berlin:20220916T180000
DTSTAMP:20230711T090515Z
URL:https://randfilmfest.de/events/randfilmfest-short-film-corner-part-1/
SUMMARY:Randfilmfest Short-Film-Corner - Part 1
DESCRIPTION:Über 3.500 Einreichungen aus aller Welt haben die Auswahl für
  den Rand-Award schwer gemacht.\nDie Short-Film-Corner zeigt die fantastis
 che Bandbreite all dessen\, was nur knapp an einer Nominierung für den Ra
 nd-Award vorbeigeschlittert ist.\n\nGenderfluid\nFR 2021 | 06:43 Min. | Om
 U\nRegie: La Fille Renne\, Laure Giappiconi\, Elisa Monteil \n\nFIST\nFR 2
 021 | 03:00 Min. | keine Dialoge\nRegie: Romy Alizée \n\nIN THE DEPTHS OF
  THE SOUL\nFR 2021 | 06:50 Min. | keine Dialoge\nRegie: Susana Arbizu\, Ch
 loé Vadepied \n\nEverything wrong with the world\nDE 2021 | 04:20 Min. | 
 OV\nRegie: Nicolai Zeitler\, Marlene Bischof \n\nKadoma City ZOMBIE Human 
 Resources Center\nJP 2021 | 29:00 Min. | OV\nRegie: Takashi Nasu \n\nHeir 
 of the Dog\nMX 2020 | 07:41 Min. | OmU\nRegie: Fabrizio Prada \n\nLUST\nMX
  2021 | 10:00 Min. | OmU\nRegie: Loida Niño \n\nAUTOAGGRESSION\nAT 2022 |
  27:00 Min. | OV \nRegie: Martin Willibald Meisl\, Daria Vybornova \nIm An
 schluss Q&A\n\nTickets: 7\,- // 6\,50 Euro ermäßigt an der Abendkasse\n\
 nFestivalticket: 60\,- // 50\,- Euro im VVK\nVorverkauf im Film-Shop Kasse
 l\, Bali-Kinos
ATTACH;FMTTYPE=image/jpeg:https://randfilmfest.de/wp-content/uploads/2022/
 08/5257_image_300460463_2279354255544898_2754409446372315086_n.jpg
CATEGORIES:Randfilmfest 2022,Randfilmfest Short-Film-Corner
LOCATION:KiezKino im Film-Shop\, Erzbergerstr. 12\, Kassel\, 34117\, Deutsc
 hland
GEO:51.32013;9.49309
X-APPLE-STRUCTURED-LOCATION;VALUE=URI;X-ADDRESS=Erzbergerstr. 12\, Kassel\,
  34117\, Deutschland;X-APPLE-RADIUS=100;X-TITLE=KiezKino im Film-Shop:geo:
 51.32013,9.49309
END:VEVENT
BEGIN:VTIMEZONE
TZID:Europe/Berlin
X-LIC-LOCATION:Europe/Berlin
BEGIN:DAYLIGHT
DTSTART:20220327T030000
TZOFFSETFROM:+0100
TZOFFSETTO:+0200
TZNAME:CEST
END:DAYLIGHT
END:VTIMEZONE
END:VCALENDAR