BEGIN:VCALENDAR
VERSION:2.0
PRODID:-//wp-events-plugin.com//7.0.5//EN
BEGIN:VEVENT
UID:84@randfilmfest.de
DTSTART;TZID=Europe/Berlin:20220915T190000
DTEND;TZID=Europe/Berlin:20220915T190000
DTSTAMP:20230711T090515Z
URL:https://randfilmfest.de/events/randfilmfest-opening-show/
SUMMARY:Randfilmfest Opening Show
DESCRIPTION:Wir eröffnen das Randfilmfest 2022 feierlich durch den legend
 ären Arbeiter*innenliederchor und einem Grußwort der Stadträtin und Kul
 turdezernentin der Stadt Kassel Dr. Susanne Völker.\nNach einem Block geh
 eimer Kurzfilme\, einer musikalischen Performance des Duos Cat Woywod x th
 infoilresistor starte der erste Wettbewerbsbeitrag „The Spine of Night
 “. Den Schlusspunkt setzt das Ambient-Set von The Delay In The Universal
  Loop.\n\nArbeiter*innenliederchor:\nDer Arbeiter*innenliederchor Kassel t
 ritt zum ersten Mal im Großen Bali auf und wird klassische Lieder der Arb
 eiter- und Arbeiterinnenbewegung und Revolutionshymnen der Pop-Kultur vort
 ragen.\n\nThe Delay In The Universal Loop:\nThe Delay In The Universal Loo
 p ist das musikalische Kind von Dylan Iuliano\, einem Twentysomething-Type
 n\, der aus einem Kaff im tiefsten Süditalien stammt. Dylan wird sowohl a
 m Eröffnungsabend als auch auf der Abschlussgala seine süchtig machende 
 Mischung aus Neo-Psychedelic\, Sound-Experimenten\, warmer analoger Electr
 onica und sexy Vocoder-Voices performen.\n\nCat Woywod x thinfoilresistor:
 \nPost Apocalyptic Experimental nennen die beiden Künstler*innen Cat Woyw
 od und Elko Braas ihre Klangskulpturen\, die sie am Eröffnungstag des Ran
 dfilmfestes im Großen Bali vorstellen werden. Mal sanft\, mal harsch\, ch
 argiert das Duo mit Klangteppichen aus Voice- und Field-Recordings und mod
 ulierten Synthesizerklängen zwischen sphärischem Ambient und harschem No
 ise. Gemeinsam errichten sie Türme aus subtilen und nuancierten Klängen\
 , um sie dann in sich zusammenfallen und unter lautem Getöse begraben zu 
 lassen.\n\nTickets: 7\,- // 6\,50 Euro ermäßigt an der Abendkasse\n\nFes
 tivalticket: 60\,- // 50\,- Euro im VVK\nVorverkauf im Film-Shop Kassel\, 
 Bali-Kinos
ATTACH;FMTTYPE=image/jpeg:https://randfilmfest.de/wp-content/uploads/2022/
 08/5242_image_300754547_2279362815544042_1205474499243411625_n.jpg
CATEGORIES:Panels &amp; Talks,Randfilmfest 2022
LOCATION:Großes BALi\, Rainer-Dierichs-Platz 1\, Kassel\, Hessen\, 34117\,
  Deutschland
X-APPLE-STRUCTURED-LOCATION;VALUE=URI;X-ADDRESS=Rainer-Dierichs-Platz 1\, K
 assel\, Hessen\, 34117\, Deutschland;X-APPLE-RADIUS=100;X-TITLE=Großes BA
 Li:geo:0,0
END:VEVENT
BEGIN:VTIMEZONE
TZID:Europe/Berlin
X-LIC-LOCATION:Europe/Berlin
BEGIN:DAYLIGHT
DTSTART:20220327T030000
TZOFFSETFROM:+0100
TZOFFSETTO:+0200
TZNAME:CEST
END:DAYLIGHT
END:VTIMEZONE
END:VCALENDAR