BEGIN:VCALENDAR
VERSION:2.0
PRODID:-//wp-events-plugin.com//7.0.5//EN
BEGIN:VEVENT
UID:131@randfilmfest.de
DTSTART:20230923T120000Z
DTEND:20230923T120000Z
DTSTAMP:20230815T070823Z
URL:https://randfilmfest.de/events/limbo/
SUMMARY:Limbo
DESCRIPTION:Hongkong wird von einer Serie brutaler Morde erschüttert: Ein 
 Killer macht Jagd auf Frauen und hinterlässt die abgetrennten Hände sein
 er Opfer überall in der Stadt. Detective Cham und sein Kollege Will werde
 n mit dem Fall betraut. Als ihnen bei den Ermittlungen die junge To über 
 den Weg läuft\, gerät Chams Welt aus den Fugen.\n\nEine mit kaltem Stilw
 illen inszenierte\, brutale und intensive Serienkillerjagd.
ATTACH;FMTTYPE=image/jpeg:https://randfilmfest.de/wp-content/uploads/2023/
 07/rff-10-_0001s_0035_Limbo_72dpi_06.jpg
CATEGORIES:Filme,Randfilmfest 2023,This is the End
LOCATION:Kleines BALi\, Rainer-Dierichs-Platz 1\, Kassel\, Hessen\, 34117\,
  Deutschland
X-APPLE-STRUCTURED-LOCATION;VALUE=URI;X-ADDRESS=Rainer-Dierichs-Platz 1\, K
 assel\, Hessen\, 34117\, Deutschland;X-APPLE-RADIUS=100;X-TITLE=Kleines BA
 Li:geo:0,0
END:VEVENT
END:VCALENDAR