BEGIN:VCALENDAR
VERSION:2.0
PRODID:-//wp-events-plugin.com//7.0.5//EN
BEGIN:VEVENT
UID:152@randfilmfest.de
DTSTART;TZID=Europe/Berlin:20230923T160000
DTEND;TZID=Europe/Berlin:20230923T160000
DTSTAMP:20230901T090754Z
URL:https://randfilmfest.de/events/kurzfilmrolle-2-rand-award-shorts-nomin
 ees-2023/
SUMMARY:Kurzfilmrolle 2: Rand Award Shorts Nominees 2023
DESCRIPTION:\n\n	Unsere Vorauswahl aus über 3.000 Einsendungen: die nomini
 erten Filme für den Rand Award Shorts.\n\n[siteorigin_widget class="WP_Wi
 dget_Media_Image"][/siteorigin_widget]\n\n	Aracne\nMEX 2023 | 4 Min. | dig
 ital | OmU | FSK ungeprüft\nRegie: Cremance | Cast: Mariana Oliart\, Od B
 oronat\, Zayda Gómez\nEin Weibchen ahmt das Verhalten einer spuckenden Sp
 inne nach und muss für ein ganz besonderes Ritual seine neue Beute einhü
 llen.\n&nbsp\;\n\n[siteorigin_widget class="WP_Widget_Media_Image"][/siteo
 rigin_widget]\n\n	Satana\nPOL 2023 | 22 | 22 Min. | digital | OmU | FSK un
 geprüft\nRegie: D.J. Drayer-Drajewicz | Cast: Alina Kostyukova\, Victori
 a Fedorova\nDie junge Satana pilgert durch die Ruinen einer dystopischen W
 elt. Auf dieser Reise wird ihre Identität auf die Probe gestellt.\n&nbsp\
 ;\n\n[siteorigin_widget class="WP_Widget_Media_Image"][/siteorigin_widget]
 \n\n	Schluckauf\nDE 2023 | 14 Min. | digital | DF | FSK ungeprüft\nRegie:
  Maxie Le Dévéhat und Marcel Schuhardt | Cast: Sylvia Mayer\, Björn-Ol
 e Blunck\, Klara Contzen\, Ivo Masannek\nEine Familie wird mit einem drohe
 nden Verlust konfrontiert\, der jedes Familienmitglied mit dem plötzliche
 n Wiederauftauchen längst vergessener Schuldgefühle konfrontiert.\n&nbsp
 \;\n\n[siteorigin_widget class="WP_Widget_Media_Image"][/siteorigin_widget
 ]\n\n	Vom Duft der Roten Beete und den Menschen\, die ewig leben\nDE 2022 
 | 12 Min | digital | OF | FSK ungeprüft\nRegie: Petra Stipetić und Maren
  Wiese\nEin Forscher entdeckt den Schlüssel zur Unsterblichkeit - mittels
  eines speziellen Gemüses: Rote Beete!\nIm Anschluß findet eine Q&amp\;A
  mit der Regisseurin Petra Stipetić statt.\n\n&nbsp\;\n\n[siteorigin_widg
 et class="WP_Widget_Media_Image"][/siteorigin_widget]\n\n	Nemesis\nFR 2022
  | 5 Min. | digital | OmU | FSK ungeprüft\nRegie: Aurore Bourguet | Cast
 : Guillaume Schmitt Bailer\, Laura eva Zimmer\, Gaïa Caron\, Ines Chartoi
 s\nEin junger Komponist sucht nach neuer Inspiration für seine Musik. Als
  er eine mysteriöse Melodie hört\, findet er sich schon bald in einem se
 ltsamen Ritual wieder.\n&nbsp\;\n\n[siteorigin_widget class="WP_Widget_Med
 ia_Image"][/siteorigin_widget]\n\n	Demi-Goddesses\nDE 2023 | 8 Min. | digi
 tal | OmU | FSK ungeprüft\nRegie: Martin Gerigk\nDer Essayfilm ist als su
 rreales\, antipatriarchales Gedankenexperiment und wirft wichtige Fragen z
 u Geschlecht\, Macht und sozialem Wandel auf.\n&nbsp\;\n\n[siteorigin_widg
 et class="WP_Widget_Media_Image"][/siteorigin_widget]\n\n	Compass in Hand\
 nAUS 2023 | 9 Min. | digital | OmU | FSK ungeprüft\nRegie:Josie Alexandra
  | Cast:Mattie Martha-Sempert\, Jarryd Harvey\, Mikael Eyayaw\, u.a.\nEin 
 filmisch-klangliches Erlebnis\, das von der Perspektive ausgeht\, dass „
 ich in einem Ödland der Träume anderer Menschen geboren wurde“.\n&nbsp
 \;\n\n[siteorigin_widget class="WP_Widget_Media_Image"][/siteorigin_widget
 ]\n\n	Monsters\nPT 2023 | 7 Min. | digital | OmU | FSK ungeprüft\nRegie: 
 Carlos Calika | Cast: Luis Catarro\, Rui Pinheiro\, Gabriel Bonifácio\, 
 Pedro Grácio u.a.\nKrieg ist ein Sakrileg und zerstört das Kostbarste au
 f unserem Planeten: das menschliche Leben\, die Unschuld der Kleinen und d
 ie Schönheit der Schöpfung.\n&nbsp\;\n\n[siteorigin_widget class="WP_Wid
 get_Media_Image"][/siteorigin_widget]\n\n	EMO DOC\nDE 2022 | 8 Min | digit
 al | FSK ungeprüft\nRegie: Chao Wu\nEMO DOC ist eine Aufzeichnung der Tra
 urigkeit. Der Film zeigt Traurigkeit\, Hilflosigkeit und Schmerz in versch
 iedenen Situationen in sieben Szenen: Open Air Cinema\, Friedhof\, Giftgas
 feld\, Club\, Hautmarkt\, Sandtisch\, Skulpturenpark.\n&nbsp\;\n\n
ATTACH;FMTTYPE=image/jpeg:https://randfilmfest.de/wp-content/uploads/2023/
 08/rff-2023-ra-shorts-kfr-2.jpg
CATEGORIES:Filme,Rand Award Shorts 2023,Randfilmfest 2023
LOCATION:KiezKino im Film-Shop\, Erzbergerstr. 12\, Kassel\, 34117\, Deutsc
 hland
GEO:51.32013;9.49309
X-APPLE-STRUCTURED-LOCATION;VALUE=URI;X-ADDRESS=Erzbergerstr. 12\, Kassel\,
  34117\, Deutschland;X-APPLE-RADIUS=100;X-TITLE=KiezKino im Film-Shop:geo:
 51.32013,9.49309
END:VEVENT
BEGIN:VTIMEZONE
TZID:Europe/Berlin
X-LIC-LOCATION:Europe/Berlin
BEGIN:DAYLIGHT
DTSTART:20230326T030000
TZOFFSETFROM:+0100
TZOFFSETTO:+0200
TZNAME:CEST
END:DAYLIGHT
END:VTIMEZONE
END:VCALENDAR