BEGIN:VCALENDAR
VERSION:2.0
PRODID:-//wp-events-plugin.com//7.0.5//EN
BEGIN:VEVENT
UID:82@randfilmfest.de
DTSTART;TZID=Europe/Berlin:20220916T213000
DTEND;TZID=Europe/Berlin:20220916T213000
DTSTAMP:20230711T090515Z
URL:https://randfilmfest.de/events/kurzfilmrolle-1-rand-award-shorts-nomin
 ees-2022/
SUMMARY:Kurzfilmrolle 1: Rand-Award Shorts Nominees 2022
DESCRIPTION:Unsere erste Vorauswahl aus über 3500 Einsendungen für den Ra
 nd-Award Shorts.
ATTACH;FMTTYPE=image/jpeg:https://randfilmfest.de/wp-content/uploads/2022/
 08/shorts-1.png
CATEGORIES:Rand-Award Shorts,Randfilmfest 2022
LOCATION:Kleines BALi\, Rainer-Dierichs-Platz 1\, Kassel\, Hessen\, 34117\,
  Deutschland
X-APPLE-STRUCTURED-LOCATION;VALUE=URI;X-ADDRESS=Rainer-Dierichs-Platz 1\, K
 assel\, Hessen\, 34117\, Deutschland;X-APPLE-RADIUS=100;X-TITLE=Kleines BA
 Li:geo:0,0
END:VEVENT
BEGIN:VTIMEZONE
TZID:Europe/Berlin
X-LIC-LOCATION:Europe/Berlin
BEGIN:DAYLIGHT
DTSTART:20220327T030000
TZOFFSETFROM:+0100
TZOFFSETTO:+0200
TZNAME:CEST
END:DAYLIGHT
END:VTIMEZONE
END:VCALENDAR