BEGIN:VCALENDAR
VERSION:2.0
PRODID:-//wp-events-plugin.com//7.0.5//EN
BEGIN:VEVENT
UID:230@randfilmfest.de
DTSTART:20250928T170400Z
DTEND:20250928T170400Z
DTSTAMP:20250814T142514Z
URL:https://randfilmfest.de/events/jorge-espinal/
SUMMARY:Jorge Espinal
DESCRIPTION:Der peruanische Performancekünstler sprengt mit seiner Gitarre
  alle Konventionen.
ATTACH;FMTTYPE=image/jpeg:https://randfilmfest.de/wp-content/uploads/2025/
 08/rff-25-_jorge-espinal.jpg
CATEGORIES:Rahmenprogramm,Randfilmfest 2025
LOCATION:Großes BALi\, Rainer-Dierichs-Platz 1\, Kassel\, Hessen\, 34117\,
  Deutschland
X-APPLE-STRUCTURED-LOCATION;VALUE=URI;X-ADDRESS=Rainer-Dierichs-Platz 1\, K
 assel\, Hessen\, 34117\, Deutschland;X-APPLE-RADIUS=100;X-TITLE=Großes BA
 Li:geo:0,0
END:VEVENT
END:VCALENDAR