BEGIN:VCALENDAR
VERSION:2.0
PRODID:-//wp-events-plugin.com//7.0.5//EN
BEGIN:VEVENT
UID:170@randfilmfest.de
DTSTART:20240928T123000Z
DTEND:20240928T123000Z
DTSTAMP:20240923T123357Z
URL:https://randfilmfest.de/events/divinity/
SUMMARY:Divinity
DESCRIPTION:Ein verrückter Wissenschaftler hat das Serum „Divinity“ er
 funden. Es macht unsterblich\, aber auch unfruchtbar. Sein Sohn versucht\,
  die Herstellung und den Vertrieb des Serums zu optimieren\, aber fiese Zw
 illinge aus dem All und ein Frauenkult stellen sich ihm in den Weg.\n\nFra
 nkenstein trifft Jason und die Argonauten im Eraserhead-Cosmos. So in etwa
  lässt sich dieser in Schwarz-Weiß gedrehte Film auf den Punkt bringen. 
 Eddie Alcazars retrofuturistischer Bilderrausch überfordert alle Sinne.
ATTACH;FMTTYPE=image/jpeg:https://randfilmfest.de/wp-content/uploads/2024/
 07/rff-11-_0018_divinity.jpg
CATEGORIES:Filme,Rand Award 2024,Randfilmfest 2024
LOCATION:Kleines BALi\, Rainer-Dierichs-Platz 1\, Kassel\, Hessen\, 34117\,
  Deutschland
X-APPLE-STRUCTURED-LOCATION;VALUE=URI;X-ADDRESS=Rainer-Dierichs-Platz 1\, K
 assel\, Hessen\, 34117\, Deutschland;X-APPLE-RADIUS=100;X-TITLE=Kleines BA
 Li:geo:0,0
END:VEVENT
END:VCALENDAR