BEGIN:VCALENDAR
VERSION:2.0
PRODID:-//wp-events-plugin.com//7.0.5//EN
BEGIN:VEVENT
UID:165@randfilmfest.de
DTSTART:20240926T203000Z
DTEND:20240926T203000Z
DTSTAMP:20240926T184620Z
URL:https://randfilmfest.de/events/die-120-tage-von-sodom/
SUMMARY:Ausverkauft: Die 120 Tage von Sodom
DESCRIPTION:Im faschistischen Marionettenstaat Salò halten die Machthaber 
 junge Menschen in einer Villa gefangen. Dort quälen und missbrauchen sie 
 zur eigenen Belustigung ihre Opfer in grotesk perversen Ritualen. \n\nVom 
 alttestamentlichen Sodom über Dantes Höllenkreise und de Sades Roman nut
 zt Pasolini die Essenz der Vorlagen für eine radikale Abrechnung mit Fasc
 hismus\, Kolonialismus\, Neokapitalismus und Konsumgesellschaft. Ein äuß
 erst wichtiger Film\, der in vielen Ländern immer noch verboten ist.\n
ATTACH;FMTTYPE=image/jpeg:https://randfilmfest.de/wp-content/uploads/2024/
 07/rff-11-_0017_Salo-04-1120x630-1.jpg
CATEGORIES:Filme,Kollateralschäden,Randfilmfest 2024
LOCATION:KiezKino im Film-Shop\, Erzbergerstr. 12\, Kassel\, 34117\, Deutsc
 hland
GEO:51.32013;9.49309
X-APPLE-STRUCTURED-LOCATION;VALUE=URI;X-ADDRESS=Erzbergerstr. 12\, Kassel\,
  34117\, Deutschland;X-APPLE-RADIUS=100;X-TITLE=KiezKino im Film-Shop:geo:
 51.32013,9.49309
END:VEVENT
END:VCALENDAR