BEGIN:VCALENDAR
VERSION:2.0
PRODID:-//wp-events-plugin.com//7.0.5//EN
BEGIN:VEVENT
UID:115@randfilmfest.de
DTSTART:20220915T171000Z
DTEND:20220915T173000Z
DTSTAMP:20230711T090515Z
URL:https://randfilmfest.de/events/cat-woywod-x-thinfoilresistor/
SUMMARY:Cat Woywod x thinfoilresistor
DESCRIPTION:Post Apocalyptic Experimental nennen die beiden Künstler*innen
  Cat Woywod und Elko Braas ihre Klangskulpturen\, die sie am Eröffnungsta
 g des Randfilmfestes im Großen Bali vorstellen werden. Mal sanft\, mal ha
 rsch\, chargiert das Duo mit Klangteppichen aus Voice- und Field-Recording
 s und modulierten Synthesizerklängen zwischen sphärischem Ambient und ha
 rschem Noise. Gemeinsam errichten sie Türme aus subtilen und nuancierten 
 Klängen\, um sie dann in sich zusammenfallen und unter lautem Getöse beg
 raben zu lassen.
ATTACH;FMTTYPE=image/jpeg:https://randfilmfest.de/wp-content/uploads/2022/
 09/CatWoywodxthinfoilresistor.jpg
CATEGORIES:Musikprogramm,Randfilmfest 2022
LOCATION:Großes BALi\, Rainer-Dierichs-Platz 1\, Kassel\, Hessen\, 34117\,
  Deutschland
X-APPLE-STRUCTURED-LOCATION;VALUE=URI;X-ADDRESS=Rainer-Dierichs-Platz 1\, K
 assel\, Hessen\, 34117\, Deutschland;X-APPLE-RADIUS=100;X-TITLE=Großes BA
 Li:geo:0,0
END:VEVENT
END:VCALENDAR